BEGIN:VCALENDAR
VERSION:2.0
PRODID:-//Limeslade - Built Environment &amp; Construction Marketing, BD &amp; Events - ECPv6.15.20//NONSGML v1.0//EN
CALSCALE:GREGORIAN
METHOD:PUBLISH
X-WR-CALNAME:Limeslade - Built Environment &amp; Construction Marketing, BD &amp; Events
X-ORIGINAL-URL:https://limeslade.com
X-WR-CALDESC:Events for Limeslade - Built Environment &amp; Construction Marketing, BD &amp; Events
REFRESH-INTERVAL;VALUE=DURATION:PT1H
X-Robots-Tag:noindex
X-PUBLISHED-TTL:PT1H
BEGIN:VTIMEZONE
TZID:UTC
BEGIN:STANDARD
TZOFFSETFROM:+0000
TZOFFSETTO:+0000
TZNAME:UTC
DTSTART:20250101T000000
END:STANDARD
END:VTIMEZONE
BEGIN:VEVENT
DTSTART;TZID=UTC:20260319T083000
DTEND;TZID=UTC:20260319T093000
DTSTAMP:20260421T164146
CREATED:20260309T123829Z
LAST-MODIFIED:20260309T123829Z
UID:10476-1773909000-1773912600@limeslade.com
SUMMARY:Pinsent Masons: UK Construction case law review
DESCRIPTION:
URL:https://limeslade.com/event/pinsent-masons-uk-construction-case-law-review
LOCATION:Online
CATEGORIES:Webinar
END:VEVENT
END:VCALENDAR