BEGIN:VCALENDAR
VERSION:2.0
PRODID:-//Limeslade - Built Environment &amp; Construction Marketing, BD &amp; Events - ECPv6.15.20//NONSGML v1.0//EN
CALSCALE:GREGORIAN
METHOD:PUBLISH
X-WR-CALNAME:Limeslade - Built Environment &amp; Construction Marketing, BD &amp; Events
X-ORIGINAL-URL:https://limeslade.com
X-WR-CALDESC:Events for Limeslade - Built Environment &amp; Construction Marketing, BD &amp; Events
REFRESH-INTERVAL;VALUE=DURATION:PT1H
X-Robots-Tag:noindex
X-PUBLISHED-TTL:PT1H
BEGIN:VTIMEZONE
TZID:UTC
BEGIN:STANDARD
TZOFFSETFROM:+0000
TZOFFSETTO:+0000
TZNAME:UTC
DTSTART:20250101T000000
END:STANDARD
END:VTIMEZONE
BEGIN:VEVENT
DTSTART;VALUE=DATE:20260421
DTEND;VALUE=DATE:20260423
DTSTAMP:20260421T201317
CREATED:20251127T114057Z
LAST-MODIFIED:20251127T114057Z
UID:10012-1776729600-1776902399@limeslade.com
SUMMARY:Industrialised Construction Conference
DESCRIPTION:
URL:https://limeslade.com/event/industrialised-construction-conference
LOCATION:Central London
CATEGORIES:Conference,Networking
END:VEVENT
END:VCALENDAR