BEGIN:VCALENDAR
VERSION:2.0
PRODID:-//Limeslade - Built Environment &amp; Construction Marketing, BD &amp; Events - ECPv6.15.20//NONSGML v1.0//EN
CALSCALE:GREGORIAN
METHOD:PUBLISH
X-WR-CALNAME:Limeslade - Built Environment &amp; Construction Marketing, BD &amp; Events
X-ORIGINAL-URL:https://limeslade.com
X-WR-CALDESC:Events for Limeslade - Built Environment &amp; Construction Marketing, BD &amp; Events
REFRESH-INTERVAL;VALUE=DURATION:PT1H
X-Robots-Tag:noindex
X-PUBLISHED-TTL:PT1H
BEGIN:VTIMEZONE
TZID:UTC
BEGIN:STANDARD
TZOFFSETFROM:+0000
TZOFFSETTO:+0000
TZNAME:UTC
DTSTART:20250101T000000
END:STANDARD
END:VTIMEZONE
BEGIN:VEVENT
DTSTART;TZID=UTC:20260505T180000
DTEND;TZID=UTC:20260505T200000
DTSTAMP:20260421T214638
CREATED:20260410T150907Z
LAST-MODIFIED:20260410T151020Z
UID:10736-1778004000-1778011200@limeslade.com
SUMMARY:SCL: Cause of Action in Negligence for a Defective Building
DESCRIPTION:
URL:https://limeslade.com/event/scl-cause-of-action-in-negligence-for-a-defective-building
LOCATION:National Liberal Club\, 1 Whitehall Pl\, Westminster\, London SW1A 2HE
CATEGORIES:Conference,Networking
END:VEVENT
BEGIN:VEVENT
DTSTART;TZID=UTC:20260507T083000
DTEND;TZID=UTC:20260507T170000
DTSTAMP:20260421T214638
CREATED:20251208T095915Z
LAST-MODIFIED:20251208T095915Z
UID:10070-1778142600-1778173200@limeslade.com
SUMMARY:RICS Building Surveying Conference 2026
DESCRIPTION:
URL:https://limeslade.com/event/rics-building-surveying-conference-2026
LOCATION:Convene 155 Bishopsgate\, Liverpool Street\, London EC2M 3YD
CATEGORIES:Conference,Networking,Seminar
END:VEVENT
BEGIN:VEVENT
DTSTART;TZID=UTC:20260507T180000
DTEND;TZID=UTC:20260507T203000
DTSTAMP:20260421T214638
CREATED:20260413T162400Z
LAST-MODIFIED:20260413T162400Z
UID:10764-1778176800-1778185800@limeslade.com
SUMMARY:NAWIC: Introduction to Construction Contracts
DESCRIPTION:
URL:https://limeslade.com/event/nawic-introduction-to-construction-contracts
LOCATION:Edwin Coe LLPLondon\, England
CATEGORIES:Conference,Networking
END:VEVENT
BEGIN:VEVENT
DTSTART;TZID=UTC:20260512T180000
DTEND;TZID=UTC:20260512T200000
DTSTAMP:20260421T214638
CREATED:20260410T152123Z
LAST-MODIFIED:20260410T152123Z
UID:10755-1778608800-1778616000@limeslade.com
SUMMARY:LCEC: Quality Management After Grenfell
DESCRIPTION:
URL:https://limeslade.com/event/lcec-quality-management-after-grenfell
LOCATION:The Institution of Structural Engineers\, 47-58 Bastwick Street\, London EC1V 3PS
CATEGORIES:Conference,Networking
END:VEVENT
BEGIN:VEVENT
DTSTART;VALUE=DATE:20260513
DTEND;VALUE=DATE:20260515
DTSTAMP:20260421T214638
CREATED:20251215T164039Z
LAST-MODIFIED:20251215T164039Z
UID:10114-1778630400-1778803199@limeslade.com
SUMMARY:FOOTPRINT+
DESCRIPTION:
URL:https://limeslade.com/event/footprint
LOCATION:Old Billingsgate
CATEGORIES:Conference,Networking,Show
END:VEVENT
BEGIN:VEVENT
DTSTART;VALUE=DATE:20260519
DTEND;VALUE=DATE:20260521
DTSTAMP:20260421T214638
CREATED:20260331T152457Z
LAST-MODIFIED:20260331T152457Z
UID:10641-1779148800-1779321599@limeslade.com
SUMMARY:ICLA Dublin Conference 2026
DESCRIPTION:
URL:https://limeslade.com/event/icla-dublin-conference-2026
LOCATION:Irish Museum of Modern Art (IMMA)\, D08 FW31
CATEGORIES:Conference,Networking
END:VEVENT
BEGIN:VEVENT
DTSTART;TZID=UTC:20260519T083000
DTEND;TZID=UTC:20260519T103000
DTSTAMP:20260421T214638
CREATED:20260413T161947Z
LAST-MODIFIED:20260413T161947Z
UID:10758-1779179400-1779186600@limeslade.com
SUMMARY:NAWIC: The Invisible Load of High-Achieving Women - Talk and Breakfast
DESCRIPTION:
URL:https://limeslade.com/event/nawic-the-invisible-load-of-high-achieving-women-talk-and-breakfast
LOCATION:NARBUTAS\, London showroomLondon\, England
CATEGORIES:Conference,Networking
END:VEVENT
END:VCALENDAR