BEGIN:VCALENDAR
VERSION:2.0
PRODID:-//Limeslade - Built Environment &amp; Construction Marketing, BD &amp; Events - ECPv6.15.20//NONSGML v1.0//EN
CALSCALE:GREGORIAN
METHOD:PUBLISH
X-WR-CALNAME:Limeslade - Built Environment &amp; Construction Marketing, BD &amp; Events
X-ORIGINAL-URL:https://limeslade.com
X-WR-CALDESC:Events for Limeslade - Built Environment &amp; Construction Marketing, BD &amp; Events
REFRESH-INTERVAL;VALUE=DURATION:PT1H
X-Robots-Tag:noindex
X-PUBLISHED-TTL:PT1H
BEGIN:VTIMEZONE
TZID:UTC
BEGIN:STANDARD
TZOFFSETFROM:+0000
TZOFFSETTO:+0000
TZNAME:UTC
DTSTART:20250101T000000
END:STANDARD
END:VTIMEZONE
BEGIN:VEVENT
DTSTART;TZID=UTC:20260601T000000
DTEND;TZID=UTC:20260605T235900
DTSTAMP:20260421T152104
CREATED:20260114T095214Z
LAST-MODIFIED:20260114T095214Z
UID:10240-1780272000-1780703940@limeslade.com
SUMMARY:LIDW26
DESCRIPTION:
URL:https://limeslade.com/event/lidw26
LOCATION:London
CATEGORIES:Conference,Networking,Seminar
END:VEVENT
BEGIN:VEVENT
DTSTART;VALUE=DATE:20260603
DTEND;VALUE=DATE:20260605
DTSTAMP:20260421T152104
CREATED:20251127T113738Z
LAST-MODIFIED:20251127T113738Z
UID:10011-1780444800-1780617599@limeslade.com
SUMMARY:Digital Construction Week
DESCRIPTION:
URL:https://limeslade.com/event/digital-construction-week-3
LOCATION:ExCel London
CATEGORIES:Conference,Networking,Show
END:VEVENT
BEGIN:VEVENT
DTSTART;TZID=UTC:20260604T170000
DTEND;TZID=UTC:20260604T193000
DTSTAMP:20260421T152104
CREATED:20260114T091649Z
LAST-MODIFIED:20260114T091649Z
UID:10221-1780592400-1780601400@limeslade.com
SUMMARY:Adjudication Society with Aleksander Godhe
DESCRIPTION:
URL:https://limeslade.com/event/adjudication-society-with-aleksander-godhe
LOCATION:Brabners LLP 100 Barbirolli Square Manchester\, M2 3BD United Kingdom
CATEGORIES:Networking,Seminar
END:VEVENT
BEGIN:VEVENT
DTSTART;TZID=UTC:20260604T180000
DTEND;TZID=UTC:20260604T200000
DTSTAMP:20260421T152104
CREATED:20260112T100144Z
LAST-MODIFIED:20260318T124423Z
UID:10215-1780596000-1780603200@limeslade.com
SUMMARY:10 Years On: The Making of the First Female Statue
DESCRIPTION:
URL:https://limeslade.com/event/10-years-on-the-making-of-the-first-female-statue
LOCATION:Houses of Parliament
CATEGORIES:Conference,Networking
END:VEVENT
END:VCALENDAR